BEGIN:VCALENDAR
VERSION:2.0
PRODID:-//project/author//NONSGML v1.0//EN
CALSCALE:GREGORIAN
BEGIN:VEVENT
UID:3681
DTSTAMP:20260424T144300Z
DTSTART:20251212T160000Z
DTEND:20251212T170000Z
SUMMARY:Традиционная зимняя встреча выпускников SSE Russia в Москве 2025
URL;VALUE=URI:https://my.ssealumni.ru/events/chgk-2025/
END:VEVENT
END:VCALENDAR