BEGIN:VCALENDAR
VERSION:2.0
PRODID:-//project/author//NONSGML v1.0//EN
CALSCALE:GREGORIAN
BEGIN:VEVENT
UID:3758
DTSTAMP:20260424T144118Z
DTSTART:20260129T060000Z
DTEND:20260129T070000Z
SUMMARY:Интенсив «Создание сильных продуктов»
URL;VALUE=URI:https://my.ssealumni.ru/events/intensiv-sozdanie-silnyh-produktov/
END:VEVENT
END:VCALENDAR